BEGIN:VCALENDAR
VERSION:2.0
PRODID:-//Angie Johnston - ECPv6.15.18//NONSGML v1.0//EN
CALSCALE:GREGORIAN
METHOD:PUBLISH
X-ORIGINAL-URL:https://sites.bc.edu/angiejohnston
X-WR-CALDESC:Events for Angie Johnston
REFRESH-INTERVAL;VALUE=DURATION:PT1H
X-Robots-Tag:noindex
X-PUBLISHED-TTL:PT1H
BEGIN:VTIMEZONE
TZID:UTC
BEGIN:STANDARD
TZOFFSETFROM:+0000
TZOFFSETTO:+0000
TZNAME:UTC
DTSTART:20210101T000000
END:STANDARD
END:VTIMEZONE
BEGIN:VEVENT
DTSTART;TZID=UTC:20221006T213000
DTEND;TZID=UTC:20221006T213000
DTSTAMP:20260424T142223
CREATED:20221006T162303Z
LAST-MODIFIED:20221006T162303Z
UID:653-1665091800-1665091800@sites.bc.edu
SUMMARY:Ice Cream Social
DESCRIPTION:
URL:https://sites.bc.edu/angiejohnston/event/ice-cream-social/
END:VEVENT
END:VCALENDAR